BEGIN:VCALENDAR
VERSION:2.0
PRODID:-//End of Life Care - ECPv4.6.14.1//NONSGML v1.0//EN
CALSCALE:GREGORIAN
METHOD:PUBLISH
X-WR-CALNAME:End of Life Care
X-ORIGINAL-URL:http://www.endoflifecare.ie
X-WR-CALDESC:Events for End of Life Care
BEGIN:VEVENT
DTSTART;TZID=UTC+0:20180707T093000
DTEND;TZID=UTC+0:20180707T170000
DTSTAMP:20260424T172919
CREATED:20180606T120817Z
LAST-MODIFIED:20180606T120817Z
UID:379-1530955800-1530982800@www.endoflifecare.ie
SUMMARY:LOVING KINDNESS MEDITATION DAY
DESCRIPTION:Loving Kindness Meditation Day\nwith Katie O’Connell\nKatie O’Connell\nWhen: July 7th\, 2018\, 9.30am – 5.00pm\nWhere: Lhasa Meditation Room\, Killarney\, Co. Kerry \nDuring this day we will explore how the practices of meditation\, compassion and loving kindness can connect us to a deeper and wiser aspect of our being. The simple practice of loving kindness meditation can open our minds and hearts\, inspiring us with confidence to initially heal ourselves and then extending our intention outwardly to include others. \nWe will learn how the skilful practice of loving-kindness and its application can assist us in developing self-compassion\, evolving to developing compassion for others. This enhances our relationship with our self\, thus enhancing our relationship with others\, in both our personal and professional lives. \n \nThe day will include presentations\, guided meditation and visualisations with group interaction. \nPrice: 60 euros \nClick here to contact Katie to secure booking. \nSpaces limited!\n
URL:http://www.endoflifecare.ie/event/loving-kindness-meditation-day/
LOCATION:Killarney\, Kerry\, Ireland
ORGANIZER;CN="Katie%20O%27Connell":MAILTO:katieokonl@gmail.com
END:VEVENT
END:VCALENDAR