BEGIN:VCALENDAR
VERSION:2.0
PRODID:-//End of Life Care - ECPv4.6.14.1//NONSGML v1.0//EN
CALSCALE:GREGORIAN
METHOD:PUBLISH
X-WR-CALNAME:End of Life Care
X-ORIGINAL-URL:http://www.endoflifecare.ie
X-WR-CALDESC:Events for End of Life Care
BEGIN:VEVENT
DTSTART;TZID=Europe/Dublin:20180512T090000
DTEND;TZID=Europe/Dublin:20180512T170000
DTSTAMP:20260424T173400
CREATED:20180425T133050Z
LAST-MODIFIED:20180425T135106Z
UID:270-1526115600-1526144400@www.endoflifecare.ie
SUMMARY:From Inner Critic to Inner Kindness: An Introduction to Self-Compassion
DESCRIPTION:From Inner Critic to Inner Kindness: An Introduction to Self-Compassion\nwith Christine Longaker\nHow do we treat our self in difficult situations\, when something goes wrong\, or after making a mistake? Research shows that being self-critical results in a sense of isolation\, tension\, and suffering\, whereas self-compassion builds confidence\, ease\, and genuine connection. We can learn to be a good friend to our self by acknowledging our imperfections with understanding\, warmth\, and kindness. \nChristine Longaker\, author of Facing Death and Finding Hope\, and international Palliative Care trainer for 40 years\, is writing a book and online course on self-compassion.\nhttp://www.christinelongaker.com. \nPrice includes coffee\, teas and light lunch. \nClick here to contact Katie to secure booking. \nSpaces limited!\n
URL:http://www.endoflifecare.ie/event/from-inner-critic-to-inner-kindness-an-introduction-to-self-compassion/
LOCATION:Killarney\, Kerry\, Ireland
ATTACH;FMTTYPE=image/jpeg:http://www.endoflifecare.ie/wp-content/uploads/2018/04/CL-13-soft-smile-b-w-1.jpg
ORGANIZER;CN="Katie%20O%27Connell":MAILTO:katieokonl@gmail.com
END:VEVENT
END:VCALENDAR